BEGIN:VCALENDAR
VERSION:2.0
PRODID:-//Think and Do - ECPv6.2.4//NONSGML v1.0//EN
CALSCALE:GREGORIAN
METHOD:PUBLISH
X-WR-CALNAME:Think and Do
X-ORIGINAL-URL:https://thinkanddo.ncsu.edu
X-WR-CALDESC:Events for Think and Do
REFRESH-INTERVAL;VALUE=DURATION:PT1H
X-Robots-Tag:noindex
X-PUBLISHED-TTL:PT1H
BEGIN:VTIMEZONE
TZID:America/New_York
BEGIN:DAYLIGHT
TZOFFSETFROM:-0500
TZOFFSETTO:-0400
TZNAME:EDT
DTSTART:20230312T070000
END:DAYLIGHT
BEGIN:STANDARD
TZOFFSETFROM:-0400
TZOFFSETTO:-0500
TZNAME:EST
DTSTART:20231105T060000
END:STANDARD
END:VTIMEZONE
BEGIN:VEVENT
DTSTART;TZID=America/New_York:20230301T110000
DTEND;TZID=America/New_York:20230301T130000
DTSTAMP:20260425T064356
CREATED:20230222T132535Z
LAST-MODIFIED:20230301T145449Z
UID:1127-1677668400-1677675600@thinkanddo.ncsu.edu
SUMMARY:Food Truck Rodeo
DESCRIPTION:Celebrate the coming of spring at a Food Truck Rodeo at the Corner on Centennial Campus. The event is open to everyone. The following food trucks will participate in the event:\nCousins Maine Lobster.Chirba Chirba.HotBox Pizza.Mad Pita.Arepa Culture.Las Gringas Churros.
URL:https://thinkanddo.ncsu.edu/event/food-truck-rodeo-2/
LOCATION:The Corner
CATEGORIES:The Corner
END:VEVENT
BEGIN:VEVENT
DTSTART;TZID=America/New_York:20230301T170000
DTEND;TZID=America/New_York:20230301T190000
DTSTAMP:20260425T064356
CREATED:20230222T132535Z
LAST-MODIFIED:20230301T145449Z
UID:1128-1677690000-1677697200@thinkanddo.ncsu.edu
SUMMARY:Conversation at the Corner
DESCRIPTION:The NC State Innovation and Entrepreneurship Student Ambassadors program will host an entrepreneurial meetup event that will include speakers.
URL:https://thinkanddo.ncsu.edu/event/conversation-at-the-corner/
LOCATION:The Corner
CATEGORIES:The Corner
END:VEVENT
END:VCALENDAR