BEGIN:VCALENDAR
VERSION:2.0
PRODID:-//Think and Do - ECPv6.2.4//NONSGML v1.0//EN
CALSCALE:GREGORIAN
METHOD:PUBLISH
X-WR-CALNAME:Think and Do
X-ORIGINAL-URL:https://thinkanddo.ncsu.edu
X-WR-CALDESC:Events for Think and Do
REFRESH-INTERVAL;VALUE=DURATION:PT1H
X-Robots-Tag:noindex
X-PUBLISHED-TTL:PT1H
BEGIN:VTIMEZONE
TZID:America/New_York
BEGIN:DAYLIGHT
TZOFFSETFROM:-0500
TZOFFSETTO:-0400
TZNAME:EDT
DTSTART:20230312T070000
END:DAYLIGHT
BEGIN:STANDARD
TZOFFSETFROM:-0400
TZOFFSETTO:-0500
TZNAME:EST
DTSTART:20231105T060000
END:STANDARD
END:VTIMEZONE
BEGIN:VEVENT
DTSTART;TZID=America/New_York:20230803T180000
DTEND;TZID=America/New_York:20230803T200000
DTSTAMP:20260422T235715
CREATED:20230527T101712Z
LAST-MODIFIED:20230527T101712Z
UID:1327-1691085600-1691092800@thinkanddo.ncsu.edu
SUMMARY:Artist Notes With 95.7 FM That Station
DESCRIPTION:Join  95.7 FM That Station on Centennial Campus this summer for free nights of music and storytelling. Artist Notes will feature artists who will not only perform on stage but also will share what went into creating their songs. Chris Edge will guide us through the ups and downs of the artists’ careers and the stories behind their songs.\nArtist Notes will take place from 6 to 8 p.m. Performances will start around 7.\nFood trucks will be on-site.  Beer will also be available\, and proceeds from the sales will benefit the SIMS Foundation\, which provides mental health and substance abuse treatments to artists\, music industry personnel and their dependent family members.\nMotor-Boatin’ is the sponsor for That Station’s Artist Notes. Please be sure to register at the event site to win a two-hour jet ski rental from Motor-Boatin’.
URL:https://thinkanddo.ncsu.edu/event/artist-notes-with-95-7-fm-that-station-6/
LOCATION:The Corner
CATEGORIES:The Corner
END:VEVENT
BEGIN:VEVENT
DTSTART;TZID=America/New_York:20230803T180000
DTEND;TZID=America/New_York:20230803T200000
DTSTAMP:20260422T235715
CREATED:20230527T101712Z
LAST-MODIFIED:20230803T133058Z
UID:1324-1691085600-1691092800@thinkanddo.ncsu.edu
SUMMARY:Artist Notes With 95.7 FM THAT Station
DESCRIPTION:Join  95.7 FM THAT Station on Centennial Campus this summer for free nights of music and storytelling. Artist Notes will feature artists who will not only perform on stage but also will share what went into creating their songs. Chris Edge will guide us through the ups and downs of the artists’ careers and the stories behind their songs.\nArtist Notes will take place from 6 to 8 p.m. Performances will start around 7.\nJune 15: Lore\nJune 29: Blake Christiana (Yarn)\nJuly 13: Nick MacDaniels (Big Something)\nAugust 3: Holler Choir\nMotor-Boatin’ is the sponsor for That Station’s Artist Notes. Please be sure to register at the event site to win a two-hour jet ski rental from Motor-Boatin’.
URL:https://thinkanddo.ncsu.edu/event/artist-notes-with-95-7-fm-that-station-4/
LOCATION:The Corner
CATEGORIES:The Corner
END:VEVENT
END:VCALENDAR