BEGIN:VCALENDAR
VERSION:2.0
PRODID:-//Think and Do - ECPv6.2.4//NONSGML v1.0//EN
CALSCALE:GREGORIAN
METHOD:PUBLISH
X-WR-CALNAME:Think and Do
X-ORIGINAL-URL:https://thinkanddo.ncsu.edu
X-WR-CALDESC:Events for Think and Do
REFRESH-INTERVAL;VALUE=DURATION:PT1H
X-Robots-Tag:noindex
X-PUBLISHED-TTL:PT1H
BEGIN:VTIMEZONE
TZID:America/New_York
BEGIN:DAYLIGHT
TZOFFSETFROM:-0500
TZOFFSETTO:-0400
TZNAME:EDT
DTSTART:20230312T070000
END:DAYLIGHT
BEGIN:STANDARD
TZOFFSETFROM:-0400
TZOFFSETTO:-0500
TZNAME:EST
DTSTART:20231105T060000
END:STANDARD
END:VTIMEZONE
BEGIN:VEVENT
DTSTART;TZID=America/New_York:20231108T120000
DTEND;TZID=America/New_York:20231108T130000
DTSTAMP:20260422T234927
CREATED:20230728T133048Z
LAST-MODIFIED:20230906T223002Z
UID:1720-1699444800-1699448400@thinkanddo.ncsu.edu
SUMMARY:WKNC's Local Lunch Live
DESCRIPTION:WKNC’s Local Lunch Live is a partnership with NC State’s Visit Centennial Campus to showcase student performers. The weekly series started in the fall of 2022 and takes place at the Corner\, an outdoor venue on the corner of Main Campus and Research Drive. All WKNC Local Lunch Live events are free and open to the public. Bring your lunch or grab a bite at one of the food trucks often parked across the street.\nWKNC will announce the performers for Local Lunch Live on its website when they are available.\nCurrent NC State students interested in performing solo or as a duet at Local Lunch Live should email the WKNC general manager at wknc-manager@ncsu.edu and include when they can perform.
URL:https://thinkanddo.ncsu.edu/event/wkncs-local-lunch-live-13/
LOCATION:The Corner
CATEGORIES:The Corner
END:VEVENT
END:VCALENDAR